BEGIN:VCALENDAR
VERSION:2.0
PRODID:-//Deleyes//Eventos//ES
CALSCALE:GREGORIAN
METHOD:PUBLISH
BEGIN:VEVENT
UID:evento-624@deleyes.pe
DTSTAMP:20260425T121530Z
DTSTART:20220311T110000Z
DTEND:20220311T120000Z
SUMMARY:Análisis de los derechos humanos vulnerados y la crisis migratoria originada por el conflicto entre Ucrania y Rusia
DESCRIPTION:El conflicto entre Ucrania y Rusia ha traído como consecuencia un contexto de violencia\, desolación y vulneración de derechos humanos. Esta situación ha obligado a muchas personas a abandonar sus hogares y buscar refugio en países vecinos\, originando una crisis migratoria en el continente europeo pues según ACNUR por lo menos un millón de civiles han abandonado territorio ucraniano. Acompáñanos en este Webinar y analicemos desde distintos enfoques esta  problemática.Hora:  6:00 pm - 7:00 pmPonencia magistral: Dra. Susana Mosquera MonelosConversatorio entre: Dra. Susana Mosquera MonelosSandra Gil Armas Miguel Casas GarcíaPara unirse a la reunión Zoom: ID de reunión: 811 2688 5151Código de acceso: 242962Certificado y Evento Gratuito: \n\nhttps://artlex.deleyes.pe/eventos/analisis-de-los-derechos-humanos-vulnerados-y-la-crisis-migratoria-originada-por-el-conflicto-entre-ucrania-y-rusia
LOCATION:https://us02web.zoom.us/j/81126885151?pwd=MjRUSlNyVnh2K2hqazA1UVMrQVNHUT09
URL:https://artlex.deleyes.pe/eventos/analisis-de-los-derechos-humanos-vulnerados-y-la-crisis-migratoria-originada-por-el-conflicto-entre-ucrania-y-rusia
STATUS:CONFIRMED
END:VEVENT
END:VCALENDAR
