BEGIN:VCALENDAR
VERSION:2.0
PRODID:-//Deleyes//Eventos//ES
CALSCALE:GREGORIAN
METHOD:PUBLISH
BEGIN:VEVENT
UID:evento-685@deleyes.pe
DTSTAMP:20260425T121439Z
DTSTART:20230601T210000Z
DTEND:20230601T230000Z
SUMMARY:Conferencia virtual "Prevención y sanción del hostigamiento sexual en las entidades públicas" del SERVIR
DESCRIPTION:Organizado por: Autoridad Nacional del Servicio Civil - Servir Perú¿Tiene costo?: Esta conferencia es GRATUITAModalidad: VirtualDirigido a: Servidores públicos y público en generalFecha y hora: Jueves\, 01 de junio de 2023\, de 4:00 a 6:00 p.m.\n\nhttps://artlex.deleyes.pe/eventos/conferencia-virtual-prevencion-y-sancion-del-hostigamiento-sexual-en-las-entidades-publicas-del-servir
LOCATION:Online
URL:https://artlex.deleyes.pe/eventos/conferencia-virtual-prevencion-y-sancion-del-hostigamiento-sexual-en-las-entidades-publicas-del-servir
STATUS:CONFIRMED
END:VEVENT
END:VCALENDAR
