BEGIN:VCALENDAR
VERSION:2.0
PRODID:-//Deleyes//Eventos//ES
CALSCALE:GREGORIAN
METHOD:PUBLISH
BEGIN:VEVENT
UID:evento-669@deleyes.pe
DTSTAMP:20260425T140027Z
DTSTART:20230110T050000Z
DTEND:20230111T045900Z
SUMMARY:Convocatoria de estudios del Grupo de Derecho Corporativo 2023 - GDC
DESCRIPTION:CONVOCATORIA 2023-IGrupo de Derecho Corporativo- GDC ¡Si tu pasión es el Derecho Corporativo\, te invitamos a ampliar tus conocimientos sobre las finanzas y a vincular el Derecho y la tecnología\, esta es tu oportunidad para formar parte de la familia GDC!.Realiza nuestro formulario en el siguiente enlace:https://forms.gle/mTZX5zsfAvEsMDS69GDC es un grupo dedicado al Derecho Corporativo y sus afines\; tiene como fin formar un grupo con ideas disruptivas\, por lo que utilizamos la tecnología en el diario de nuestras actividades.GDC busca el desarrollo de todas las capacidades de los miembros del grupo\, para ello los empodera en temáticas específicas tales como: congresos\, talleres\, conferencias\, videoconferencias\, eventos deportivos y otros.!!Ahora es el momento de exigirte!!!!Sumate a ser parte de este gran equipo\, postula ya !! te esperamos.\n\nhttps://artlex.deleyes.pe/eventos/convocatoria-de-estudios-del-grupo-de-derecho-corporativo-2023-gdc
LOCATION:https://www.facebook.com/GDC.Unfv
URL:https://artlex.deleyes.pe/eventos/convocatoria-de-estudios-del-grupo-de-derecho-corporativo-2023-gdc
STATUS:CONFIRMED
END:VEVENT
END:VCALENDAR
