BEGIN:VCALENDAR
VERSION:2.0
PRODID:-//Deleyes//Eventos//ES
CALSCALE:GREGORIAN
METHOD:PUBLISH
BEGIN:VEVENT
UID:evento-681@deleyes.pe
DTSTAMP:20260425T103111Z
DTSTART:20230522T230000Z
DTEND:20230523T020000Z
SUMMARY:Corpus luris: Nuevo reglamento de la Ley de Teletrabajo\, retos de las empresas frente a la necesidad de adecuarse a la normativa del teletrabajo
DESCRIPTION:Corpus luris tiene el agrado de invitarlos a participar de su próximo evento sobre: "Nuevo reglamento de la Ley de Teletrabajo\, retos de las empresas frente a la necesidad de adecuarse a la normativa del teletrabajo”. Fecha: 22 de mayo.Horario: 6:00 PMModalidad Virtual: Vía ZoomFormulario: https://lnkd.in/edks8sZaInversión: Acceso LibreBeneficios:-Asistencia gratuita.EXPOSITORES:▪Boris Sebastiani▪Juan Valera▪José Daniel Cadillo PonceEn caso de tener alguna consulta sobre el evento pueden escribir un correo a: \n\nhttps://artlex.deleyes.pe/eventos/corpus-luris-nuevo-reglamento-de-la-ley-de-teletrabajo-retos-de-las-empresas-frente-a-la-necesidad-de-adecuarse-a-la-normativa-del-teletrabajo
LOCATION:Online
URL:https://artlex.deleyes.pe/eventos/corpus-luris-nuevo-reglamento-de-la-ley-de-teletrabajo-retos-de-las-empresas-frente-a-la-necesidad-de-adecuarse-a-la-normativa-del-teletrabajo
STATUS:CONFIRMED
END:VEVENT
END:VCALENDAR
