BEGIN:VCALENDAR
VERSION:2.0
PRODID:-//Deleyes//Eventos//ES
CALSCALE:GREGORIAN
METHOD:PUBLISH
BEGIN:VEVENT
UID:evento-570@deleyes.pe
DTSTAMP:20260425T102307Z
DTSTART:20210629T230000Z
DTEND:20210630T003000Z
SUMMARY:Curso de Especialización en Derecho Laboral Empresarial
DESCRIPTION:DeLeyes\, en convenio con CDE presentan el Curso de Especialización en: "Derecho Laboral Empresarial"\, con el objetivo de proveer a los participantes una percepción integral sobre la contratación de personal en tiempos de COVID-19\,  sobre los principales cambios normativos\, y la determinación de medidas de seguridad y salud y planes de vigilancia\, así como el despido en tiempos de emergencia. Actualiza a tus principales colaboradores con nosotros.Las ponencias que se dictarán en vivo en el curso serán las siguientes: Principales cambios normativos en tiempos de COVID 19.La contratación laboral durante la pandemia.Suspensión perfecta y despido en el estado de emergencia.Medidas de seguridad y salud y planes de vigilancia.Docente: Carolina Fernández Huayta.Jefe legal de AOPIP. Abogada especialista en Derecho Laboral\, con Segunda especialidad en Derecho del Trabajo y de la Seguridad Social obtenido por la PUCP. Expositora de temas laborales y de recursos humanos en diversas instituci\n\nhttps://artlex.deleyes.pe/eventos/curso-corto-de-especializacion-en-derecho-laboral-empresarial
LOCATION:Online
URL:https://artlex.deleyes.pe/eventos/curso-corto-de-especializacion-en-derecho-laboral-empresarial
STATUS:CONFIRMED
END:VEVENT
END:VCALENDAR
