BEGIN:VCALENDAR
VERSION:2.0
PRODID:-//Deleyes//Eventos//ES
CALSCALE:GREGORIAN
METHOD:PUBLISH
BEGIN:VEVENT
UID:evento-700@deleyes.pe
DTSTAMP:20260425T103050Z
DTSTART:20230619T050000Z
DTEND:20230619T050000Z
SUMMARY:Curso de especialización Derecho Procesal Civil y Litigación oral civil
DESCRIPTION:Se invita a la preinscripción de curso de Derecho Procesal Civil y Litigación Civil. Para ello\, complete los datos requeridos en el siguiente enlace:https://bit.ly/LITIGAFecha de inicio: 19 de junio Informes: 967840546\n\nhttps://artlex.deleyes.pe/eventos/curso-de-especializacion-derecho-procesal-civil-y-litigacion-oral-civil
LOCATION:Online
URL:https://artlex.deleyes.pe/eventos/curso-de-especializacion-derecho-procesal-civil-y-litigacion-oral-civil
STATUS:CONFIRMED
END:VEVENT
END:VCALENDAR
