BEGIN:VCALENDAR
VERSION:2.0
PRODID:-//Deleyes//Eventos//ES
CALSCALE:GREGORIAN
METHOD:PUBLISH
BEGIN:VEVENT
UID:evento-612@deleyes.pe
DTSTAMP:20260425T103051Z
DTSTART:20220130T220000Z
DTEND:20220130T230000Z
SUMMARY:Curso-Taller: "El Abogado del Futuro: Legaltech y la Transformación General del derecho"
DESCRIPTION:El Grupo de Derecho Corporativo (GDC)\, grupo académico de la Universidad Nacional Federico Villareal\, en coorganización con la plataforma jurídica Deleyes\, se complacen en presentar el Curso-Taller denominado "El Abogado del Futuro: Legaltech y la Transformación General del derecho".   Este curso forma parte de los cursos y programas especializados que la plataforma de educación Coursera brinda a todos sus estudiantes\, por lo que los invitamos a poder inscribirse en este curso gratuito\, a efectos de fortalecer sus conocimientos y obtener una visión general de los principales cambios que han surgido en el Derecho. Enlace del Curso en Coursera: El Abogado del Futuro: Legaltech y la Transformación General del derecho. Este Curso-Taller iniciará el 30 de enero de 2022\, cuyos miembros del GDC tendrán como consigna desarrollar durante 5 semanas las siguientes sesiones:  Sesión 1: El Derecho en el Contexto de la Revolución Digital.Sesión 2: La Disrupción de la Inteligencia Artificial en\n\nhttps://artlex.deleyes.pe/eventos/curso-taller-el-abogado-del-futuro-legaltech-y-la-transformacion-general-del-derecho
LOCATION:Online
URL:https://artlex.deleyes.pe/eventos/curso-taller-el-abogado-del-futuro-legaltech-y-la-transformacion-general-del-derecho
STATUS:CONFIRMED
END:VEVENT
END:VCALENDAR
