BEGIN:VCALENDAR
VERSION:2.0
PRODID:-//Deleyes//Eventos//ES
CALSCALE:GREGORIAN
METHOD:PUBLISH
BEGIN:VEVENT
UID:evento-642@deleyes.pe
DTSTAMP:20260425T102201Z
DTSTART:20220610T010000Z
DTEND:20220610T024000Z
SUMMARY:DEBATE JURIDICO - RETOS DEL DERECHO PENAL Y PROCESAL PENAL
DESCRIPTION:La Escuela Garantista - Cerejus se complace en presentar el "DEBATE JURIDICO - RETOS DEL DERECHO PENAL Y PROCESAL PENAL"MODALIDAD: Virtual.CLASES:  100% interactivasPLATAFORMA: ZOOM y YouTube  DIA: 09 de Junio.HORA: 8:00 a 9:40 p.m.INVERSIÓN: TOTALMENTE GRATIS  MODERADOR:  Dr. Miguel Falla Rosado - Abogado Especializado en Derecho PenalPONENTES:  Dr. Wilson Manayalle Sánchez - Juez de investigación preparatoriaDr. Ricardo Mellarez Alvarado - Abogado Especializado en Derecho PenalDr. Christian Sánchez Sánchez - Abogado Especializado en Derecho Penal.TEMARIO:  1. La víctima en el delito de estelionato.2. ¿El juez tiene el poder de excluir al abogado particular?3. Problemática de la prueba anticipada y la preconstituida\n\nhttps://artlex.deleyes.pe/eventos/debate-juridico-retos-del-derecho-penal-y-procesal-penal
LOCATION:Online
URL:https://artlex.deleyes.pe/eventos/debate-juridico-retos-del-derecho-penal-y-procesal-penal
STATUS:CONFIRMED
END:VEVENT
END:VCALENDAR
