BEGIN:VCALENDAR
VERSION:2.0
PRODID:-//Deleyes//Eventos//ES
CALSCALE:GREGORIAN
METHOD:PUBLISH
BEGIN:VEVENT
UID:evento-564@deleyes.pe
DTSTAMP:20260425T135816Z
DTSTART:20210531T110000Z
DTEND:20210531T130000Z
SUMMARY:Denuncias por Infracción Marcaria: Todo lo que debes saber para proteger tu derecho
DESCRIPTION:Estimada Comunidad Jurídica\, Los invitamos a participar del EVENTO GRATUITO\, este Lunes 31 de Mayo. Transmisión: Vía Facebook de Estudio Jurídico Tarazona &amp\; Asociados TEMÁTICA: "Denuncias por Infracción Marcaria: Todo lo que debes saber para proteger tu Derecho"\n\nhttps://artlex.deleyes.pe/eventos/denuncias-por-infraccion-marcaria-todo-lo-que-debes-saber-para-evitarlas
LOCATION:https://www.facebook.com/tarazonaabogadoscorporativos
URL:https://artlex.deleyes.pe/eventos/denuncias-por-infraccion-marcaria-todo-lo-que-debes-saber-para-evitarlas
STATUS:CONFIRMED
END:VEVENT
END:VCALENDAR
