BEGIN:VCALENDAR
VERSION:2.0
PRODID:-//Deleyes//Eventos//ES
CALSCALE:GREGORIAN
METHOD:PUBLISH
BEGIN:VEVENT
UID:evento-572@deleyes.pe
DTSTAMP:20260425T121439Z
DTSTART:20210613T000000Z
DTEND:20210613T020000Z
SUMMARY:El análisis de Impacto Regulatorio como mecanismo para promover una mejor gestión pública y reducir la corrupción
DESCRIPTION:OLAGED y Deleyes.pe te invitan a participar en el evento "El análisis de Impacto Regulatorio como mecanismo para promover una mejor gestión pública y reducir la corrupción".Contamos con la ponencia del Mg. Juan José Martínez Ortiz\, quien es experto legal\, Consultor en Derecho administrativo y Gestión Pública\, Árbitro y profesor universitario y Promotor de la optimización y del uso estratégico del sistema jurídico.OLAGED emitirá un certificado a todos los que se inscriban por Deleyes.pe\n\nhttps://artlex.deleyes.pe/eventos/el-analisis-de-impacto-regulatorio-como-mecanismo-para-promover-una-mejor-gestion-publica-y-reducir-la-corrupcion
LOCATION:Online
URL:https://artlex.deleyes.pe/eventos/el-analisis-de-impacto-regulatorio-como-mecanismo-para-promover-una-mejor-gestion-publica-y-reducir-la-corrupcion
STATUS:CONFIRMED
END:VEVENT
END:VCALENDAR
