BEGIN:VCALENDAR
VERSION:2.0
PRODID:-//Deleyes//Eventos//ES
CALSCALE:GREGORIAN
METHOD:PUBLISH
BEGIN:VEVENT
UID:evento-663@deleyes.pe
DTSTAMP:20260425T135939Z
DTSTART:20221114T000000Z
DTEND:20221114T013000Z
SUMMARY:El delito de nombramiento y aceptación ilegal del cargo. A propósito de la jurisprudencia nacional
DESCRIPTION:Querida comunidad jurídica\, el Portal Jurídico DeLeyes en colaboración con el TEFD - Taller de Estudiantes de la Facultad de Derecho presentará una SESIÓN EXTRAORDINARIA\, presenta su primera ponencia extraordinaria denominada: El delito de nombramiento y aceptación ilegal del cargo. A propósito de la jurisprudencia nacional.PONENTE:El Dr. ANGEL ORTIZ AYOSA quien es abogado del área penal de Alagon Piura Abogados\, Maestrante con mención en Derecho Penal y Procesal Penal en la Universidad Nacional de Piura\, diplomante con mención en Derecho Procesal Penal y Beneficios Penitenciarios\, diplomante con mencion en la Ley N° 30364 Aspecto Jurídico y Psicológico\, ponente en eventos jurídicos nacionales\, escritor de artículos jurídicos\, escritor de columnas jurídicas en el Diario Regional de Lambayeque "La Verdad y en el Diario Regional de Piura "El Dato"\, licenciado en Derecho y Ciencias Políticas por la Universidad Católica Los Ángeles de Chimbote.FECHA:-Domingo 13 de noviembre a las \n\nhttps://artlex.deleyes.pe/eventos/el-delito-de-nombramiento-y-aceptacion-ilegal-del-cargo-a-proposito-de-la-jurisprudencia-nacional
LOCATION:https://us02web.zoom.us/j/84214696976?pwd=RXNNNmFDWjJvZEptZk5aY1dRR2Vldz09
URL:https://artlex.deleyes.pe/eventos/el-delito-de-nombramiento-y-aceptacion-ilegal-del-cargo-a-proposito-de-la-jurisprudencia-nacional
STATUS:CONFIRMED
END:VEVENT
END:VCALENDAR
