BEGIN:VCALENDAR
VERSION:2.0
PRODID:-//Deleyes//Eventos//ES
CALSCALE:GREGORIAN
METHOD:PUBLISH
BEGIN:VEVENT
UID:evento-549@deleyes.pe
DTSTAMP:20260425T121530Z
DTSTART:20210518T110000Z
DTEND:20210518T120000Z
SUMMARY:Evento "Viabilidad de la Reorganización Societaria en el próximo Quinquenio"
DESCRIPTION:DESCRIPCIÓN DEL EVENTO:Ante la situación corporativa actual en la que muchos pequeños\, medianos\, y macro empresarios se ven inmersos en la incertidumbre\, de cómo y cuándo organizarse societariamente de igual modo en que momento requerir financiamiento\, hemos resuelto realizar el magno evento “Viabilidad de la Reorganización Societaria en el próximo quinquenio".El evento contará con 4 disertaciones concretas acerca de la situación corporativa actual\, con 4 ponentes especializados en la materia empresarial.Asimismo se utilizará el mismo link para ingresar a sala en zoom.Inscríbete y actualiza tus conocimientos jurídicos con ponentes de gran trayectoria.FORMULARIO DE INSCRIPCIÓN:Lo encuentras en la sección derecha\, para el cual tendrás que seleccionar el botón VERDE\, en confirmación de tu inscripción.FORMULARIO DE REGISTRO DE ASISTENCIA: En enlace para confirmar asistencia se proporcionará el mismo día de las disertaciones.Aquel enlace se activará el día del evento y contará con un\n\nhttps://artlex.deleyes.pe/eventos/evento-viabilidad-de-la-reorganizacion-societaria-en-el-proximo-quinquenio
LOCATION:https://us02web.zoom.us/j/89758438100?pwd=bGlyNElEYUxGMTZlMFlrdGtSS2RQZz09
URL:https://artlex.deleyes.pe/eventos/evento-viabilidad-de-la-reorganizacion-societaria-en-el-proximo-quinquenio
STATUS:CONFIRMED
END:VEVENT
END:VCALENDAR
