BEGIN:VCALENDAR
VERSION:2.0
PRODID:-//Deleyes//Eventos//ES
CALSCALE:GREGORIAN
METHOD:PUBLISH
BEGIN:VEVENT
UID:evento-600@deleyes.pe
DTSTAMP:20260425T103050Z
DTSTART:20211019T000000Z
DTEND:20211019T023000Z
SUMMARY:I Edición del Curso Especializado en Compliance: Rompiendo el sesgo legal
DESCRIPTION:Deleyes presenta la I Edición del Curso Especializado en Compliance: Rompiendo el sesgo legal\, organizado por Bordes y el portal jurídico Deleyes\, con el fin de dar un enfoque distinto al Compliance\, a efectos de abordar los siguientes puntos:Alcances de un Programa de Compliance.Aplicación del Design Thinking y Scrum.Gestión del Riesgo.Sensibilización y Comunicación Organizacional.Con este evento deseamos difundir temas que buscan situar al Compliance desde otras perspectivas\, así se podrá determinar qué relación tienen las metodologías ágiles\, el compliance y el marketing reputacional. Fechas:  Lunes 18 de octubre.Martes 19 de octubre.Miércoles 20 de octubre.Jueves 21 de octubre.Horario: De 7:00 PM - 9:30 PM.Dirigido a:  Egresados\, estudiantes y profesionales de Derecho\, Administración\, Economía\, y profesionales especializados en el área de Compliance\, de instituciones privadas y públicas.Inscripción:  Ingreso Libre previa inscripción en el link del evento. Certificación: O\n\nhttps://artlex.deleyes.pe/eventos/i-edicion-del-curso-especializado-en-compliance-rompiendo-el-sesgo-legal
LOCATION:Online
URL:https://artlex.deleyes.pe/eventos/i-edicion-del-curso-especializado-en-compliance-rompiendo-el-sesgo-legal
STATUS:CONFIRMED
END:VEVENT
END:VCALENDAR
