BEGIN:VCALENDAR
VERSION:2.0
PRODID:-//Deleyes//Eventos//ES
CALSCALE:GREGORIAN
METHOD:PUBLISH
BEGIN:VEVENT
UID:evento-701@deleyes.pe
DTSTAMP:20260425T103051Z
DTSTART:20230603T010000Z
DTEND:20230603T030000Z
SUMMARY:La Administración financiera y su relación con los estados financieros
DESCRIPTION:El Grupo Centec los invita a participar del evento "La Administración Financiera y su relación con los Estados Financieros "Fecha: 02 de junio Hora: 8:00om\n\nhttps://artlex.deleyes.pe/eventos/la-administracion-financiera-y-su-relacion-con-los-estados-financieros
LOCATION:Online
URL:https://artlex.deleyes.pe/eventos/la-administracion-financiera-y-su-relacion-con-los-estados-financieros
STATUS:CONFIRMED
END:VEVENT
END:VCALENDAR
