BEGIN:VCALENDAR
VERSION:2.0
PRODID:-//Deleyes//Eventos//ES
CALSCALE:GREGORIAN
METHOD:PUBLISH
BEGIN:VEVENT
UID:evento-537@deleyes.pe
DTSTAMP:20260425T120929Z
DTSTART:20210411T020000Z
DTEND:20210410T230000Z
SUMMARY:Presentación académica del libro "Instituciones de Derecho Procesal de Trabajo" del Dr. Omar Toledo Toribio
DESCRIPTION:IUXTA LEGEM tiene el grato honor de invitarlos a participar de la Presentación académica del libro "Instituciones de Derecho Procesal de Trabajo" del Dr. Omar Toledo Toribio.  Ponentes: - Dr. César Augusto Carballo Mena (Jefe del Departamento de Derecho Social de la Universidad Católica Andrés Bello\, Venezuela\, docente en la maestría de Derecho del Trabajo y de la Seguridad Social de la PUCP)Tema: "Principios del derecho de trabajo y justicia laboral"- Mg. Alejandra Aguilar Muñoz (Relatora de Excma. Corte Suprema de Chile\, Tercera Sala de Derecho Constitucional)Tema: "Los desafíos del derecho procesal laboral en pandemia"- Dr. Victor Antonio Castillo León (Juez Superior de la Corte Superior de Justicia de La Libertad\, docente universitario en la Universidad Nacional de Trujillo)Tema: "La prueba compleja en el proceso laboral peruano"- Dr. Omar Toledo Toribio (Presidente de la Cuarta Sala Laboral Permanente de la Corte Superior de Justicia de Lima\, docente universitario en la PUCP \n\nhttps://artlex.deleyes.pe/eventos/presentacion-academica-del-libro-instituciones-de-derecho-procesal-de-trabajo-del-dr-omar-toledo-toribio
LOCATION:https://www.facebook.com/IUXTALEGEMOFICIAL/photos/a.873032659522569/1889687667857058
URL:https://artlex.deleyes.pe/eventos/presentacion-academica-del-libro-instituciones-de-derecho-procesal-de-trabajo-del-dr-omar-toledo-toribio
STATUS:CONFIRMED
END:VEVENT
END:VCALENDAR
