BEGIN:VCALENDAR
VERSION:2.0
PRODID:-//Deleyes//Eventos//ES
CALSCALE:GREGORIAN
METHOD:PUBLISH
BEGIN:VEVENT
UID:evento-497@deleyes.pe
DTSTAMP:20260425T102150Z
DTSTART:20200926T230000Z
DTEND:20200927T010000Z
SUMMARY:Principales Títulos Valores: Factoring Electrónico
DESCRIPTION:Abogada por la Universidad Nacional Federico Villarreal (UNFV) y Maestro en Derecho de Empresa por la Universidad Peruana de Ciencias Aplicadas (UPC). Estudios de especialización en Mercado de Valores por la Universidad ESAN y en Legal Tech por ESADE\, España. Experiencia profesional mayor a 11 años en el sector privado en temas vinculados al mercado de capitales\, financiamiento con títulos valores electrónicos\, protección de datos personales\, legal tech e innovación. Abogada Senior en la Gerencia Legal Corporativa de la Bolsa de Valores de Lima (BVL). Fue Abogada Senior en CAVALI S.A ICLV\, y Jefe del Departamento Legal de Procapitales.Docente en la Universidad ESAN y en la Universidad Privada del Norte (UPN)\, así como en el Centro de Estudios de la BVL – BURSEN. Autora de publicaciones en Revistas especializadas como la Revista Capitales y la Revista del Foro del Ilustre Colegio de Abogados de Lima\; así como ha participado en la obra colectiva “Tratado de Derecho Mercantil. Títu\n\nhttps://artlex.deleyes.pe/eventos/principales-titulos-valores-factoring-electronico
LOCATION:https://us02web.zoom.us/j/88083488160
URL:https://artlex.deleyes.pe/eventos/principales-titulos-valores-factoring-electronico
STATUS:CONFIRMED
END:VEVENT
END:VCALENDAR
