BEGIN:VCALENDAR
VERSION:2.0
PRODID:-//Deleyes//Eventos//ES
CALSCALE:GREGORIAN
METHOD:PUBLISH
BEGIN:VEVENT
UID:evento-618@deleyes.pe
DTSTAMP:20260425T135252Z
DTSTART:20220501T000000Z
DTEND:20220501T023000Z
SUMMARY:Próximamente el Curso de Especialización en Derecho de Protección al Consumidor Financiero y del Mercado de Valores.
DESCRIPTION:Deleyes tiene el agrado de invitar a la comunidad jurídica al Curso de Especialización en Derecho de Protección al Consumidor Financiero y del Mercado de Valores\, organizado por el portal jurídico Deleyes\, con el auspicio del Grupo de Estudios de Derecho Corporativo.1. ESTRUCTURA: El curso especializado tendrá 16 ponencias individuales en el marco de 8 fechas de un Programa Académico diseñado para un aprendizaje dinámico\, que combine la teoría con la experiencia profesional de los docentes. Las fechas se dictarán dos veces por semana\, permitiendo al participante poder organizarse con otras actividades o realizar otros cursos. El dictado virtual propicia una interacción en tiempo real.2. BENEFICIOS: Los participantes al terminar el curso especializado obtendrán su certificado en el Curso de Especialización en Derecho de Protección al Consumidor Financiero y del Mercado de Valores.3. HORARIODe 19: 00 a 21:30 horas4. INICIO El curso iniciará el 30 de mayo los días lunes y miercoles5. \n\nhttps://artlex.deleyes.pe/eventos/proximamente-el-curso-de-especializacion-en-derecho-de-proteccion-al-consumidor-financiero-y-del-mercado-de-valores
LOCATION:Online
URL:https://artlex.deleyes.pe/eventos/proximamente-el-curso-de-especializacion-en-derecho-de-proteccion-al-consumidor-financiero-y-del-mercado-de-valores
STATUS:CONFIRMED
END:VEVENT
END:VCALENDAR
