BEGIN:VCALENDAR
VERSION:2.0
PRODID:-//Deleyes//Eventos//ES
CALSCALE:GREGORIAN
METHOD:PUBLISH
BEGIN:VEVENT
UID:evento-696@deleyes.pe
DTSTAMP:20260425T103053Z
DTSTART:20230609T010000Z
DTEND:20230609T030000Z
SUMMARY:Revista Ius ET | Presentación de la edición N° 55.
DESCRIPTION:La revista Ius ET Praxis se complace de anunciarles la Presentación de la edición N° 55.En este evento se contará con distinguidos ponentes que abordarán temas de mucha relevancia\, relacionados al derecho civil constitucional\, la constitucionalización del derecho civil.Fecha: 8 de junio de 2023.Hora: 19:00 a 21:30 horas.Lugar: Aula Magna O2.¡No te lo puedes perder!\n\nhttps://artlex.deleyes.pe/eventos/revista-ius-et--presentacion-de-la-edicion-n-55
LOCATION:Online
URL:https://artlex.deleyes.pe/eventos/revista-ius-et--presentacion-de-la-edicion-n-55
STATUS:CONFIRMED
END:VEVENT
END:VCALENDAR
