BEGIN:VCALENDAR
VERSION:2.0
PRODID:-//Deleyes//Eventos//ES
CALSCALE:GREGORIAN
METHOD:PUBLISH
BEGIN:VEVENT
UID:evento-594@deleyes.pe
DTSTAMP:20260425T120945Z
DTSTART:20210908T000000Z
DTEND:20210908T020000Z
SUMMARY:Análisis Psicológico del Derecho. En búsqueda de un nuevo Derecho
DESCRIPTION:Estimada comunidad jurídica\, nuestro portal jurídico Deleyes se complace en presentar el “Seminario de Análisis Psicológico del Derecho. En búsqueda de un nuevo derecho”\, que se realizará los días 7 y 14 de setiembre de 2021\, con el fin de poder entender la relación existente entre el Derecho y la Psicología\, la justificación de su conexión y la búsqueda de herramientas y metodologías psicológicas que permitan mejorar la especialización de los abogados y la carrera de Derecho.  TEMARIO: SESIÓN 1: 07 DE SETIEMBRE.- TEMA 1: El análisis conductual de los abogados litigantes. HORARIO:  7:00 - 8:00 pm.- TEMA 2: La psicología de los testigos ¿irracionales?HORARIO:  8:00 - 9:00 pm.SESIÓN 2: 14 DE SETIEMBRE. - TEMA 3:  La Psicología y el Sistema de Justicia. HORARIO:  7:00 - 8:00 pm.- TEMA 4: La Psicología y el Sistema de Justicia.  HORARIO:  8:00 - 9:00 pm. INFORMACIÓN: DIRIGIDO A:  Estudiantes\, abogados\, y público en general. BENEFICIOS:  Materiales + Certificado de asistencia. INFORMA\n\nhttps://artlex.deleyes.pe/eventos/seminario-de-analisis-psicologico-del-derecho-en-busqueda-de-un-nuevo-derecho
LOCATION:Online
URL:https://artlex.deleyes.pe/eventos/seminario-de-analisis-psicologico-del-derecho-en-busqueda-de-un-nuevo-derecho
STATUS:CONFIRMED
END:VEVENT
END:VCALENDAR
