BEGIN:VCALENDAR
VERSION:2.0
PRODID:-//Deleyes//Eventos//ES
CALSCALE:GREGORIAN
METHOD:PUBLISH
BEGIN:VEVENT
UID:evento-635@deleyes.pe
DTSTAMP:20260425T103052Z
DTSTART:20220528T220000Z
DTEND:20220529T003000Z
SUMMARY:TALLER DE LIBERACIÓN EMOCIONAL ¿CÓMO APROVECHO LOS QUIEBRES DE MI VIDA?
DESCRIPTION:TALLER DE LIBERACIÓN EMOCIONAL ¿CÓMO APROVECHO LOS QUIEBRES DE MI VIDA?Si quieres cambiar lo que sucede a tu alrededor\, tienes que cambiar lo que pasa en tu interior. Confía en ti todo es posible. Este taller te brinda las oportunidades de cambio para mejorar en tu vida.Dirigido para adolescentes\, jóvenes y adultos.Fecha del taller: 28 de MayoHora: 5:00-7:30pmModalidad virtual: plataforma zoomPresencial: Calle Ricardo Angulo 289-San IsidroINFORMES e INSCRIPCIONES:  https://bit.ly/3L5ptUu983437445 / 924175697No lo dudes\, anímate a participar del taller presencial o virtual con los mejores especialistas que brindarán las herramientas necesarias para aplicarlas en tu vida. \n\nhttps://artlex.deleyes.pe/eventos/taller-de-liberacion-emocional-como-aprovecho-los-quiebres-de-mi-vida
LOCATION:https://bit.ly/3L5ptUu
URL:https://artlex.deleyes.pe/eventos/taller-de-liberacion-emocional-como-aprovecho-los-quiebres-de-mi-vida
STATUS:CONFIRMED
END:VEVENT
END:VCALENDAR
