BEGIN:VCALENDAR
VERSION:2.0
PRODID:-//Deleyes//Eventos//ES
CALSCALE:GREGORIAN
METHOD:PUBLISH
BEGIN:VEVENT
UID:evento-535@deleyes.pe
DTSTAMP:20260425T102155Z
DTSTART:20210325T000000Z
DTEND:20210324T230000Z
SUMMARY:Trata de personas - 20 años después del Protocolo de Palermo
DESCRIPTION:Estimada comunidad jurídica\, el Taller de Derecho Penal y Litigación Oral "IUS THEMIS" y el Portal Jurídico DeLeyes tienen el agrado de presentarles el evento denominado "Trata de personas - 20 años después del Protocolo de Palermo"\, evento que contará con la presencia de distinguidos ponentes nacionales e internacionales. Fechas: 24 y 26 de marzo de 2021 Horarios: Primera fecha: 18:00 hrs a 19:00 hrsSegunda fecha: 15:00 hrs a 17:00 hrsModalidad: Virtual (Plataforma Zoom) y Facebook Live. Link del evento: Primera fecha: https://us02web.zoom.us/j/81951169473?pwd=ODY4QzY1Z283ZmE2eHp0UnpVbVRRZz09Segunda fecha: https://us02web.zoom.us/j/88122533395?pwd=c1RNcFZxMWVFWGo1S0YzS1Z1TUJrZz09Nuestro Fanpage: https:www.facebook.com/iusthemisunfvCERTIFICACIÓN GRATUITAINGRESO LIBRE\, previo registro en la plataforma.\n\nhttps://artlex.deleyes.pe/eventos/trata-de-personas-20-a%C3%B1os-despues-del-protocolo-de-palermo
LOCATION:Online
URL:https://artlex.deleyes.pe/eventos/trata-de-personas-20-a%C3%B1os-despues-del-protocolo-de-palermo
STATUS:CONFIRMED
END:VEVENT
END:VCALENDAR
