BEGIN:VCALENDAR
VERSION:2.0
PRODID:-//Deleyes//Eventos//ES
CALSCALE:GREGORIAN
METHOD:PUBLISH
BEGIN:VEVENT
UID:evento-686@deleyes.pe
DTSTAMP:20260425T120930Z
DTSTART:20230528T150000Z
DTEND:20230528T160000Z
SUMMARY:Vocatio Ad Ius Civile| "Regimen general del cumplimiento e incumplimiento"
DESCRIPTION:El Taller académico "Vocatio Ad Ius Civile" invita a toda la comunidad jurídica y estudiantil a participar de nuestra SESIÓN DE ACCESO LIBRE\, en el que se tratará del tema: "Regimen general del cumplimiento e incumplimiento".Este espacio contará con la ponencia del Abg. Miguel Ángel Pérez Caruajulca.La sesión se desarrollará el día domingo 28 de mayo.Hora: 10:00 am.Si desea ingresar a la sesión programada únete al siguiente enlace:Enlace de la videollamada: https://meet.google.com/xup-madt-gti¡Te invitamos a conocer de nuestro ponente!#PROCESALCIVIL\n\nhttps://artlex.deleyes.pe/eventos/vocatio-ad-ius-civile-regimen-general-del-cumplimiento-e-incumplimiento
LOCATION:Online
URL:https://artlex.deleyes.pe/eventos/vocatio-ad-ius-civile-regimen-general-del-cumplimiento-e-incumplimiento
STATUS:CONFIRMED
END:VEVENT
END:VCALENDAR
