BEGIN:VCALENDAR
VERSION:2.0
PRODID:-//Deleyes//Eventos//ES
CALSCALE:GREGORIAN
METHOD:PUBLISH
BEGIN:VEVENT
UID:evento-648@deleyes.pe
DTSTAMP:20260425T102201Z
DTSTART:20220620T140000Z
DTEND:20220620T160000Z
SUMMARY:WEBINAR "Responsabilidad Civil e Incumplimiento Contractual en el Derecho Marítimo: Casos Prácticos"
DESCRIPTION:Law and Arbitration Forum invita a toda la comunidad\, nos alegra presentar el panel de ponentes para nuestro WEBINAR "Responsabilidad Civil e Incumplimiento Contractual en el Derecho Marítimo: Casos Prácticos":Maria Grazia Blanco (Escritorio Jurídico Bolinaga &amp\; Blanco - Venezuela).Carlos Salinas Adelantado (MA Abogados - España).  Rafael Durán Sanhueza (Durán &amp\; Cía Abogados - Chile).Joaquín De Obarrio (Patton Moreno &amp\; Asvat - Panamá).Tulio Cusman (SM&amp\;L - Perú).Con el auspicio de ARBANZA\, el evento se llevará a cabo de la siguiente manera:DÍA: 20 de junio.  HORA: 9 am a 11 am.Medio: Plataforma Zoom (enviaremos el link días antes del evento).Ingreso libre.Certificado opcional\, previo pago de S/ 20.00*.Link de inscripción: aquí¡Las y los esperamos!\n\nhttps://artlex.deleyes.pe/eventos/webinar-responsabilidad-civil-e-incumplimiento-contractual-en-el-derecho-maritimo-casos-practicos
LOCATION:Online
URL:https://artlex.deleyes.pe/eventos/webinar-responsabilidad-civil-e-incumplimiento-contractual-en-el-derecho-maritimo-casos-practicos
STATUS:CONFIRMED
END:VEVENT
END:VCALENDAR
